BEGIN:VCALENDAR
VERSION:2.0
PRODID:-//Les Francs archers de Nice - ECPv6.3.2//NONSGML v1.0//EN
CALSCALE:GREGORIAN
METHOD:PUBLISH
X-WR-CALNAME:Les Francs archers de Nice
X-ORIGINAL-URL:https://francsarchersnice.net
X-WR-CALDESC:évènements pour Les Francs archers de Nice
REFRESH-INTERVAL;VALUE=DURATION:PT1H
X-Robots-Tag:noindex
X-PUBLISHED-TTL:PT1H
BEGIN:VTIMEZONE
TZID:Europe/Paris
BEGIN:DAYLIGHT
TZOFFSETFROM:+0100
TZOFFSETTO:+0200
TZNAME:CEST
DTSTART:20260329T010000
END:DAYLIGHT
BEGIN:STANDARD
TZOFFSETFROM:+0200
TZOFFSETTO:+0100
TZNAME:CET
DTSTART:20261025T010000
END:STANDARD
END:VTIMEZONE
BEGIN:VEVENT
DTSTART;VALUE=DATE:20260214
DTEND;VALUE=DATE:20260215
DTSTAMP:20260423T213302
CREATED:20260203T190853Z
LAST-MODIFIED:20260207T141140Z
UID:10005157-1771027200-1771113599@francsarchersnice.net
SUMMARY:Chandleur des FAN
DESCRIPTION:Venez partager les crêpes dans la bonne humeur !
URL:https://francsarchersnice.net/events/chandleur-des-fan/
LOCATION:Francs Archers\, 217\, Boulevard Jean Luciano\, Nice\, 06300\, France
CATEGORIES:Animation,Traditions
ATTACH;FMTTYPE=image/png:https://francsarchersnice.net/wp-content/uploads/2026/02/affiche-FAN-Chandleur.png
END:VEVENT
END:VCALENDAR