BEGIN:VCALENDAR
VERSION:2.0
PRODID:-//Les Francs archers de Nice - ECPv6.3.2//NONSGML v1.0//EN
CALSCALE:GREGORIAN
METHOD:PUBLISH
X-WR-CALNAME:Les Francs archers de Nice
X-ORIGINAL-URL:https://francsarchersnice.net
X-WR-CALDESC:évènements pour Les Francs archers de Nice
REFRESH-INTERVAL;VALUE=DURATION:PT1H
X-Robots-Tag:noindex
X-PUBLISHED-TTL:PT1H
BEGIN:VTIMEZONE
TZID:Europe/Paris
BEGIN:DAYLIGHT
TZOFFSETFROM:+0100
TZOFFSETTO:+0200
TZNAME:CEST
DTSTART:20260329T010000
END:DAYLIGHT
BEGIN:STANDARD
TZOFFSETFROM:+0200
TZOFFSETTO:+0100
TZNAME:CET
DTSTART:20261025T010000
END:STANDARD
END:VTIMEZONE
BEGIN:VEVENT
DTSTART;TZID=Europe/Paris:20260501T100000
DTEND;TZID=Europe/Paris:20260501T170000
DTSTAMP:20260423T213334
CREATED:20260414T100031Z
LAST-MODIFIED:20260423T103548Z
UID:10005179-1777629600-1777654800@francsarchersnice.net
SUMMARY:Rendu de la Reine et l'abat oiseau
DESCRIPTION:ors de cette journée que nous souhaitons ensoleillée. Notre Reine (Marie) \, remet sa couronne en jeu.  \nElle sera soutenu par ses serviteurs d’un évènement à savoir Maxime (Maxou) et Soren (Soso). Si vous voulez tout savoir sur le jeu tenu secret\, venez le 1er mai et surtout\, essayez de décrocher la place de Reine\, Roi ou encore Poussinet. \nOn vous attend \nInscription : \n\n\n\n\nRendu de la Reine 2026\n\n\n\n\n\n\n\n\n	Nom\n		*\n	\n	\n	\n		Nom	\n\n	\n					\n				\n					Premier				\n\n										\n						Premier			\n						\n				\n					Dernier				\n\n										\n						Dernier			\n				\n\n\n	\n	\n\n\n	\nEnvoyer\n\n\n\n\n\n	\n				\n				\n					Si vous êtes un humain\, ne remplissez pas ce champ.				\n				\n			\n		\n\n\nΔ \n\n\nPersonnes inscrites : \n \n\n\n\nNom\nEntry creation date\n\n\n\n\nHAMMAMI Inès\n23 avril 2026 à 12h28\n\n\nABID Rémi\n23 avril 2026 à 12h28\n\n\nRenault Delphine\n23 avril 2026 à 12h29
URL:https://francsarchersnice.net/events/rendu-de-la-reine-et-labat-oiseau/
LOCATION:Francs Archers\, 217\, Boulevard Jean Luciano\, Nice\, 06300\, France
CATEGORIES:Animation,Traditions
ATTACH;FMTTYPE=image/jpeg:https://francsarchersnice.net/wp-content/uploads/2026/04/49109.jpg
END:VEVENT
END:VCALENDAR