BEGIN:VCALENDAR
VERSION:2.0
PRODID:-//Les Francs archers de Nice - ECPv6.3.2//NONSGML v1.0//EN
CALSCALE:GREGORIAN
METHOD:PUBLISH
X-WR-CALNAME:Les Francs archers de Nice
X-ORIGINAL-URL:https://francsarchersnice.net
X-WR-CALDESC:évènements pour Les Francs archers de Nice
REFRESH-INTERVAL;VALUE=DURATION:PT1H
X-Robots-Tag:noindex
X-PUBLISHED-TTL:PT1H
BEGIN:VTIMEZONE
TZID:Europe/Paris
BEGIN:DAYLIGHT
TZOFFSETFROM:+0100
TZOFFSETTO:+0200
TZNAME:CEST
DTSTART:20260329T010000
END:DAYLIGHT
BEGIN:STANDARD
TZOFFSETFROM:+0200
TZOFFSETTO:+0100
TZNAME:CET
DTSTART:20261025T010000
END:STANDARD
END:VTIMEZONE
BEGIN:VEVENT
DTSTART;TZID=Europe/Paris:20260620T140000
DTEND;TZID=Europe/Paris:20260620T170000
DTSTAMP:20260423T213334
CREATED:20260422T141442Z
LAST-MODIFIED:20260422T141959Z
UID:10005180-1781964000-1781974800@francsarchersnice.net
SUMMARY:Passage de flèches
DESCRIPTION:
URL:https://francsarchersnice.net/events/passage-de-fleches-4/
LOCATION:Francs Archers\, 217\, Boulevard Jean Luciano\, Nice\, 06300\, France
CATEGORIES:Competition,Extérieure,Traditions
END:VEVENT
END:VCALENDAR